BEGIN:VCALENDAR
VERSION:2.0
PRODID:-//Cedar Tree Academy - ECPv6.15.20//NONSGML v1.0//EN
CALSCALE:GREGORIAN
METHOD:PUBLISH
X-WR-CALNAME:Cedar Tree Academy
X-ORIGINAL-URL:https://cedartree-dc.org
X-WR-CALDESC:Events for Cedar Tree Academy
REFRESH-INTERVAL;VALUE=DURATION:PT1H
X-Robots-Tag:noindex
X-PUBLISHED-TTL:PT1H
BEGIN:VTIMEZONE
TZID:UTC
BEGIN:STANDARD
TZOFFSETFROM:+0000
TZOFFSETTO:+0000
TZNAME:UTC
DTSTART:20180101T000000
END:STANDARD
END:VTIMEZONE
BEGIN:VEVENT
DTSTART;VALUE=DATE:20191016
DTEND;VALUE=DATE:20191017
DTSTAMP:20260424T160812
CREATED:20180803T133923Z
LAST-MODIFIED:20190819T185752Z
UID:842-1571184000-1571270399@cedartree-dc.org
SUMMARY:Boss’s Day
DESCRIPTION:
URL:https://cedartree-dc.org/calendar/event-copy-copy-5-copy-copy-copy-copy/
LOCATION:Cedar Tree Academy\, 701 Howard Rd SE\, Washignton\, DC\, 20020\, United States
END:VEVENT
END:VCALENDAR