BEGIN:VCALENDAR
VERSION:2.0
PRODID:-//Cedar Tree Academy - ECPv6.15.20//NONSGML v1.0//EN
CALSCALE:GREGORIAN
METHOD:PUBLISH
X-WR-CALNAME:Cedar Tree Academy
X-ORIGINAL-URL:https://cedartree-dc.org
X-WR-CALDESC:Events for Cedar Tree Academy
REFRESH-INTERVAL;VALUE=DURATION:PT1H
X-Robots-Tag:noindex
X-PUBLISHED-TTL:PT1H
BEGIN:VTIMEZONE
TZID:UTC
BEGIN:STANDARD
TZOFFSETFROM:+0000
TZOFFSETTO:+0000
TZNAME:UTC
DTSTART:20180101T000000
END:STANDARD
END:VTIMEZONE
BEGIN:VEVENT
DTSTART;VALUE=DATE:20191009
DTEND;VALUE=DATE:20191010
DTSTAMP:20260424T160652
CREATED:20180803T133731Z
LAST-MODIFIED:20190819T185300Z
UID:837-1570579200-1570665599@cedartree-dc.org
SUMMARY:Joyful Food Market
DESCRIPTION:
URL:https://cedartree-dc.org/calendar/event-copy-copy-6/
LOCATION:Cedar Tree Academy\, 701 Howard Rd SE\, Washignton\, DC\, 20020\, United States
END:VEVENT
END:VCALENDAR