BEGIN:VCALENDAR
VERSION:2.0
PRODID:-//Cedar Tree Academy - ECPv6.15.20//NONSGML v1.0//EN
CALSCALE:GREGORIAN
METHOD:PUBLISH
X-WR-CALNAME:Cedar Tree Academy
X-ORIGINAL-URL:https://cedartree-dc.org
X-WR-CALDESC:Events for Cedar Tree Academy
REFRESH-INTERVAL;VALUE=DURATION:PT1H
X-Robots-Tag:noindex
X-PUBLISHED-TTL:PT1H
BEGIN:VTIMEZONE
TZID:UTC
BEGIN:STANDARD
TZOFFSETFROM:+0000
TZOFFSETTO:+0000
TZNAME:UTC
DTSTART:20250101T000000
END:STANDARD
END:VTIMEZONE
BEGIN:VEVENT
DTSTART;TZID=UTC:20260204T080000
DTEND;TZID=UTC:20260227T170000
DTSTAMP:20260424T180955
CREATED:20251021T141830Z
LAST-MODIFIED:20251021T141831Z
UID:4194-1770192000-1772211600@cedartree-dc.org
SUMMARY:Black History Month Presentations
DESCRIPTION:Black History Month Presentations
URL:https://cedartree-dc.org/calendar/black-history-month-presentations/
END:VEVENT
BEGIN:VEVENT
DTSTART;VALUE=DATE:20260213
DTEND;VALUE=DATE:20260214
DTSTAMP:20260424T180955
CREATED:20180803T134950Z
LAST-MODIFIED:20251021T141858Z
UID:870-1770940800-1771027199@cedartree-dc.org
SUMMARY:Professional Development (No School for students)
DESCRIPTION:
URL:https://cedartree-dc.org/calendar/professional-development-no-school-for-students3/
LOCATION:Cedar Tree Academy\, 701 Howard Rd SE\, Washignton\, DC\, 20020\, United States
END:VEVENT
BEGIN:VEVENT
DTSTART;VALUE=DATE:20260216
DTEND;VALUE=DATE:20260217
DTSTAMP:20260424T180955
CREATED:20200803T132037Z
LAST-MODIFIED:20251021T141935Z
UID:2480-1771200000-1771286399@cedartree-dc.org
SUMMARY:Presidents Day (No School)
DESCRIPTION:
URL:https://cedartree-dc.org/calendar/presidents-day-no-school/
END:VEVENT
END:VCALENDAR