BEGIN:VCALENDAR
VERSION:2.0
PRODID:-//Cedar Tree Academy - ECPv6.15.20//NONSGML v1.0//EN
CALSCALE:GREGORIAN
METHOD:PUBLISH
X-ORIGINAL-URL:https://cedartree-dc.org
X-WR-CALDESC:Events for Cedar Tree Academy
REFRESH-INTERVAL;VALUE=DURATION:PT1H
X-Robots-Tag:noindex
X-PUBLISHED-TTL:PT1H
BEGIN:VTIMEZONE
TZID:UTC
BEGIN:STANDARD
TZOFFSETFROM:+0000
TZOFFSETTO:+0000
TZNAME:UTC
DTSTART:20250101T000000
END:STANDARD
END:VTIMEZONE
BEGIN:VEVENT
DTSTART;TZID=UTC:20260505T080000
DTEND;TZID=UTC:20260509T170000
DTSTAMP:20260424T160325
CREATED:20251021T142723Z
LAST-MODIFIED:20251021T142723Z
UID:4203-1777968000-1778346000@cedartree-dc.org
SUMMARY:Teachers’ Appreciation Week
DESCRIPTION:
URL:https://cedartree-dc.org/calendar/teachers-appreciation-week/
END:VEVENT
BEGIN:VEVENT
DTSTART;VALUE=DATE:20260515
DTEND;VALUE=DATE:20260516
DTSTAMP:20260424T160325
CREATED:20240524T022740Z
LAST-MODIFIED:20251021T142801Z
UID:3001-1778803200-1778889599@cedartree-dc.org
SUMMARY:Progress Reports Issued (Q4)
DESCRIPTION:
URL:https://cedartree-dc.org/calendar/progress-reports-issued-q4/
END:VEVENT
BEGIN:VEVENT
DTSTART;TZID=UTC:20260527T180000
DTEND;TZID=UTC:20260527T200000
DTSTAMP:20260424T160325
CREATED:20210804T183420Z
LAST-MODIFIED:20251021T142914Z
UID:2783-1779904800-1779912000@cedartree-dc.org
SUMMARY:Parent Café
DESCRIPTION:
URL:https://cedartree-dc.org/calendar/parent-cafe-4/
END:VEVENT
END:VCALENDAR