BEGIN:VCALENDAR
VERSION:2.0
PRODID:-//Cedar Tree Academy - ECPv6.15.20//NONSGML v1.0//EN
CALSCALE:GREGORIAN
METHOD:PUBLISH
X-WR-CALNAME:Cedar Tree Academy
X-ORIGINAL-URL:https://cedartree-dc.org
X-WR-CALDESC:Events for Cedar Tree Academy
REFRESH-INTERVAL;VALUE=DURATION:PT1H
X-Robots-Tag:noindex
X-PUBLISHED-TTL:PT1H
BEGIN:VTIMEZONE
TZID:UTC
BEGIN:STANDARD
TZOFFSETFROM:+0000
TZOFFSETTO:+0000
TZNAME:UTC
DTSTART:20250101T000000
END:STANDARD
END:VTIMEZONE
BEGIN:VEVENT
DTSTART;VALUE=DATE:20260605
DTEND;VALUE=DATE:20260606
DTSTAMP:20260424T173508
CREATED:20190312T135634Z
LAST-MODIFIED:20251021T143032Z
UID:1701-1780617600-1780703999@cedartree-dc.org
SUMMARY:Field Day
DESCRIPTION:
URL:https://cedartree-dc.org/calendar/field-day/
ATTACH;FMTTYPE=image/jpeg:https://cedartree-dc.org/wp-content/uploads/2019/03/TS-331P.jpg
END:VEVENT
BEGIN:VEVENT
DTSTART;VALUE=DATE:20260605
DTEND;VALUE=DATE:20260606
DTSTAMP:20260424T173508
CREATED:20251021T143010Z
LAST-MODIFIED:20251021T143010Z
UID:4205-1780617600-1780703999@cedartree-dc.org
SUMMARY:End of Term (Q4)
DESCRIPTION:
URL:https://cedartree-dc.org/calendar/end-of-term-q4/
END:VEVENT
BEGIN:VEVENT
DTSTART;VALUE=DATE:20260617
DTEND;VALUE=DATE:20260618
DTSTAMP:20260424T173508
CREATED:20200803T133124Z
LAST-MODIFIED:20251021T143130Z
UID:2499-1781654400-1781740799@cedartree-dc.org
SUMMARY:Last Day of School for Students
DESCRIPTION:
URL:https://cedartree-dc.org/calendar/last-day-of-school-for-students/
END:VEVENT
BEGIN:VEVENT
DTSTART;VALUE=DATE:20260618
DTEND;VALUE=DATE:20260619
DTSTAMP:20260424T173508
CREATED:20230907T203712Z
LAST-MODIFIED:20251021T143212Z
UID:3278-1781740800-1781827199@cedartree-dc.org
SUMMARY:Last Day for Teachers/ Staff
DESCRIPTION:
URL:https://cedartree-dc.org/calendar/last-day-for-teachers-staff/
END:VEVENT
END:VCALENDAR