BEGIN:VCALENDAR
VERSION:2.0
PRODID:-//Cedar Tree Academy - ECPv6.15.20//NONSGML v1.0//EN
CALSCALE:GREGORIAN
METHOD:PUBLISH
X-WR-CALNAME:Cedar Tree Academy
X-ORIGINAL-URL:https://cedartree-dc.org
X-WR-CALDESC:Events for Cedar Tree Academy
REFRESH-INTERVAL;VALUE=DURATION:PT1H
X-Robots-Tag:noindex
X-PUBLISHED-TTL:PT1H
BEGIN:VTIMEZONE
TZID:UTC
BEGIN:STANDARD
TZOFFSETFROM:+0000
TZOFFSETTO:+0000
TZNAME:UTC
DTSTART:20250101T000000
END:STANDARD
END:VTIMEZONE
BEGIN:VEVENT
DTSTART;VALUE=DATE:20260318
DTEND;VALUE=DATE:20260319
DTSTAMP:20260424T160610
CREATED:20210804T181017Z
LAST-MODIFIED:20251021T142254Z
UID:2754-1773792000-1773878399@cedartree-dc.org
SUMMARY:Parent Café
DESCRIPTION:
URL:https://cedartree-dc.org/calendar/parent-cafe-3/
END:VEVENT
END:VCALENDAR