BEGIN:VCALENDAR
VERSION:2.0
PRODID:-//Cedar Tree Academy - ECPv6.15.20//NONSGML v1.0//EN
CALSCALE:GREGORIAN
METHOD:PUBLISH
X-WR-CALNAME:Cedar Tree Academy
X-ORIGINAL-URL:https://cedartree-dc.org
X-WR-CALDESC:Events for Cedar Tree Academy
REFRESH-INTERVAL;VALUE=DURATION:PT1H
X-Robots-Tag:noindex
X-PUBLISHED-TTL:PT1H
BEGIN:VTIMEZONE
TZID:UTC
BEGIN:STANDARD
TZOFFSETFROM:+0000
TZOFFSETTO:+0000
TZNAME:UTC
DTSTART:20180101T000000
END:STANDARD
END:VTIMEZONE
BEGIN:VEVENT
DTSTART;VALUE=DATE:20191108
DTEND;VALUE=DATE:20191109
DTSTAMP:20260424T160811
CREATED:20190819T190238Z
LAST-MODIFIED:20190819T190238Z
UID:1860-1573171200-1573257599@cedartree-dc.org
SUMMARY:Report Card Issued (1st Quarter)
DESCRIPTION:
URL:https://cedartree-dc.org/calendar/report-card-issued-1st-quarter/
END:VEVENT
END:VCALENDAR