BEGIN:VCALENDAR
VERSION:2.0
PRODID:-//Cedar Tree Academy - ECPv6.15.20//NONSGML v1.0//EN
CALSCALE:GREGORIAN
METHOD:PUBLISH
X-WR-CALNAME:Cedar Tree Academy
X-ORIGINAL-URL:https://cedartree-dc.org
X-WR-CALDESC:Events for Cedar Tree Academy
REFRESH-INTERVAL;VALUE=DURATION:PT1H
X-Robots-Tag:noindex
X-PUBLISHED-TTL:PT1H
BEGIN:VTIMEZONE
TZID:UTC
BEGIN:STANDARD
TZOFFSETFROM:+0000
TZOFFSETTO:+0000
TZNAME:UTC
DTSTART:20200101T000000
END:STANDARD
END:VTIMEZONE
BEGIN:VEVENT
DTSTART;VALUE=DATE:20211206
DTEND;VALUE=DATE:20211218
DTSTAMP:20260423T145158
CREATED:20180803T134659Z
LAST-MODIFIED:20210804T181851Z
UID:862-1638748800-1639785599@cedartree-dc.org
SUMMARY:Winter Extravaganza
DESCRIPTION:
URL:https://cedartree-dc.org/calendar/winter-extravaganza/
LOCATION:Cedar Tree Academy\, 701 Howard Rd SE\, Washignton\, DC\, 20020\, United States
END:VEVENT
END:VCALENDAR